BEGIN:VCALENDAR
VERSION:2.0
PRODID:-//Plone.org//NONSGML plone.app.event//EN
X-WR-TIMEZONE:US/Central
BEGIN:VEVENT
SUMMARY:Book Dragon Domain Teen Book Club
DTSTART;TZID=US/Central:20250923T153000
DTEND;TZID=US/Central:20250923T163000
DTSTAMP:20260425T110149Z
UID:f0b739d12fd54d089e0d8286ee0c40dc@saas_stack_varnish:6080
CONTACT:Kasi Welborn\, 573-581-4939\, kasi.w@mexico-audrain.lib.mo.us
CREATED:20250715T195809Z
DESCRIPTION:This is the monthly meeting for the Book Dragon Domain Book Cl
 ub. This month we will be meeting in the Mexico Middle School Library. For
  ages 12-19\, or grades 6 and up.
LAST-MODIFIED:20250723T181626Z
LOCATION:Mexico Middle School Library
URL:https://www.mexico-audrain.lib.mo.us/calendar-news/events/book-dragon-
 domain-teen-book-clbu
END:VEVENT
BEGIN:VTIMEZONE
TZID:US/Central
X-LIC-LOCATION:US/Central
BEGIN:DAYLIGHT
DTSTART:20250309T030000
TZNAME:CDT
TZOFFSETFROM:-0600
TZOFFSETTO:-0500
END:DAYLIGHT
END:VTIMEZONE
END:VCALENDAR
