BEGIN:VCALENDAR
VERSION:2.0
PRODID:-//Plone.org//NONSGML plone.app.event//EN
X-WR-TIMEZONE:US/Central
BEGIN:VEVENT
SUMMARY:Book & Art Club
DTSTART;TZID=US/Central:20251112T160000
DTEND;TZID=US/Central:20251112T170000
DTSTAMP:20260419T201908Z
UID:9b543ef13f6a46dc82cfe8550876334e@saas_stack_varnish:6080
CONTACT:Aletha\, 573-581-4940
CREATED:20250905T213441Z
DESCRIPTION:Activities best suited for ages 5-10.  We will read a book and
  make a craft or two.  Event on second Wednesday of each month during Sept
 ember - April.  Must register in the Children's Department to attend.  Lim
 it: 20 participants.  Program co-sponsored by City of Mexico Parks and Rec
 reation.
LAST-MODIFIED:20250905T214009Z
LOCATION:Mexico Library on the lower level
URL:https://www.mexico-audrain.lib.mo.us/calendar-news/events/book-art-clu
 b-1/2025-11-12
END:VEVENT
BEGIN:VTIMEZONE
TZID:US/Central
X-LIC-LOCATION:US/Central
BEGIN:STANDARD
DTSTART:20251102T010000
TZNAME:CST
TZOFFSETFROM:-0500
TZOFFSETTO:-0600
END:STANDARD
END:VTIMEZONE
END:VCALENDAR
