BEGIN:VCALENDAR
VERSION:2.0
PRODID:-//Plone.org//NONSGML plone.app.event//EN
X-WR-TIMEZONE:US/Central
BEGIN:VEVENT
SUMMARY:Library Board Meeting
DTSTART;TZID=US/Central:20260527T103000
DTEND;TZID=US/Central:20260527T113000
DTSTAMP:20260424T200950Z
UID:593cfb0a90b04a9e8ab15c52e4d555c2@saas_stack_varnish:6080
RRULE:FREQ=MONTHLY;UNTIL=20301231T000000;BYDAY=+4WE
EXDATE;TZID=US/Central:20211117T000000,20211215T000000,20220119T000000,202
 20216T000000,20220316T000000,20220420T000000,20220518T000000,20220615T0000
 00,20220720T000000,20220817T000000,20220921T000000,20221019T000000,2022111
 6T000000,20221221T000000,20230621T000000,20230705T000000,20231220T000000,2
 0240619T000000,20240717T000000,20241218T000000,20250917T000000,20251126T00
 0000,20251224T000000,20260826T000000,20261125T000000,20261223T000000
ATTENDEE;CN="All are Welcome";ROLE=REQ-PARTICIPANT:All are Welcome
CONTACT:Christal Bruner\, Library Director\, 573-581-4939\, director@mexic
 o-audrain.lib.mo.us
CREATED:20210106T205316Z
DESCRIPTION:Public welcome. Time is available for comments from the public
 .
LAST-MODIFIED:20260423T152619Z
LOCATION:Laddonia Library
URL:https://www.mexico-audrain.lib.mo.us/calendar-news/events/board-of-tru
 stees-meetings
END:VEVENT
BEGIN:VTIMEZONE
TZID:US/Central
X-LIC-LOCATION:US/Central
BEGIN:DAYLIGHT
DTSTART:20260308T030000
TZNAME:CDT
TZOFFSETFROM:-0600
TZOFFSETTO:-0500
END:DAYLIGHT
END:VTIMEZONE
END:VCALENDAR
