BEGIN:VCALENDAR
VERSION:2.0
PRODID:-//Plone.org//NONSGML plone.app.event//EN
X-WR-TIMEZONE:US/Central
BEGIN:VEVENT
SUMMARY:Be My Neighbor Day!
DTSTART;TZID=US/Central:20260328T100000
DTEND;TZID=US/Central:20260328T140000
DTSTAMP:20260421T093609Z
UID:501be77e584a4ab193dbc5e078dda3be@saas_stack_varnish:6080
CONTACT:Friends of the Mexico-Audrain Library\, macldfriends@gmail.com\, h
 ttps://www.kmos.org/bemyneighborday/
CREATED:20260205T175603Z
DESCRIPTION:Come meet Daniel Tiger from Mister Rogers' Neighborhood at the
  Mexico Area YMCA.  It will be fun for the whole family!
LAST-MODIFIED:20260219T220233Z
LOCATION:Mexico Area YMCA\, 1127 Adams St. Mexico\, MO
URL:https://www.mexico-audrain.lib.mo.us/calendar-news/events/be-my-neighb
 or-day
END:VEVENT
BEGIN:VTIMEZONE
TZID:US/Central
X-LIC-LOCATION:US/Central
BEGIN:DAYLIGHT
DTSTART:20260308T030000
TZNAME:CDT
TZOFFSETFROM:-0600
TZOFFSETTO:-0500
END:DAYLIGHT
END:VTIMEZONE
END:VCALENDAR
