BEGIN:VCALENDAR
VERSION:2.0
PRODID:-//Plone.org//NONSGML plone.app.event//EN
X-WR-TIMEZONE:US/Central
BEGIN:VEVENT
SUMMARY:Adventure on the Square Scavenger Hunt
DTSTART;TZID=US/Central:20240615T100000
DTEND;TZID=US/Central:20240615T120000
DTSTAMP:20260420T201450Z
UID:f2228f1d55ef4a12923b49adf076bb2b@saas_stack_varnish:6080
CONTACT:Kasi\, Kasi.w@mexico-audrain.lib.mo.us
CREATED:20240501T152535Z
DESCRIPTION:A scavenger hunt starting at the Mexico library.\n\nFor Ages 1
 2-18.
LAST-MODIFIED:20240501T155121Z
LOCATION:Mexico Branch
URL:https://www.mexico-audrain.lib.mo.us/calendar-news/events/adventures-o
 n-the-square-scavenger-hunt
END:VEVENT
BEGIN:VTIMEZONE
TZID:US/Central
X-LIC-LOCATION:US/Central
BEGIN:DAYLIGHT
DTSTART:20240310T030000
TZNAME:CDT
TZOFFSETFROM:-0600
TZOFFSETTO:-0500
END:DAYLIGHT
END:VTIMEZONE
END:VCALENDAR
