BEGIN:VCALENDAR
VERSION:2.0
PRODID:-//Plone.org//NONSGML plone.app.event//EN
X-WR-TIMEZONE:US/Central
BEGIN:VEVENT
SUMMARY:Adult Coloring Stress Relief
DTSTART;TZID=US/Central:20230525T140000
DTEND;TZID=US/Central:20230525T150000
DTSTAMP:20260422T081143Z
UID:204d3bcdda6646309a14f2ed1e6a21c7@saas_stack_varnish:6080
CREATED:20230503T183202Z
LAST-MODIFIED:20230515T200707Z
LOCATION:Martinsburg
URL:https://www.mexico-audrain.lib.mo.us/calendar-news/events/adult-colori
 ng-stress-relief
END:VEVENT
BEGIN:VTIMEZONE
TZID:US/Central
X-LIC-LOCATION:US/Central
BEGIN:DAYLIGHT
DTSTART:20230312T030000
TZNAME:CDT
TZOFFSETFROM:-0600
TZOFFSETTO:-0500
END:DAYLIGHT
END:VTIMEZONE
END:VCALENDAR
