BEGIN:VCALENDAR
VERSION:2.0
PRODID:-//Plone.org//NONSGML plone.app.event//EN
X-WR-TIMEZONE:US/Central
BEGIN:VEVENT
SUMMARY:Adult Coloring Stress Relief
DTSTART;TZID=US/Central:20240605T100000
DTEND;TZID=US/Central:20240605T110000
DTSTAMP:20260421T132027Z
UID:563e88c90c914952b3783e629e3ba710@saas_stack_varnish:6080
CONTACT:Mare Prosso\, (573) 581-4939\, programlibrarian@mexico-audrain.lib
 .mo.us
CREATED:20240502T162504Z
DESCRIPTION:take an hour to decompress with this adult summer reading prog
 ram
LAST-MODIFIED:20240626T183939Z
LOCATION:Vandalia Branch
URL:https://www.mexico-audrain.lib.mo.us/calendar-news/events/adult-colori
 ng-stress-relief-4
END:VEVENT
BEGIN:VTIMEZONE
TZID:US/Central
X-LIC-LOCATION:US/Central
BEGIN:DAYLIGHT
DTSTART:20240310T030000
TZNAME:CDT
TZOFFSETFROM:-0600
TZOFFSETTO:-0500
END:DAYLIGHT
END:VTIMEZONE
END:VCALENDAR
